BEGIN:VCALENDAR
VERSION:2.0
PRODID:-//Santuário de Fátima//NONSGML SF2ICAL v1.0//PT
METHOD:PUBLISH
X-WR-CALNAME:Santuário de Fátima
X-ORIGINAL-URL:https://www.fatima.pt/
X-WR-CALDESC:Events for Santuário de Fátima
BEGIN:VEVENT
UID:8be57b15-9f02-4bd4-8bd7-da6da9bb1a4f
DTSTAMP:20260423T171728Z
DTSTART;VALUE=DATE:20261128
DTEND;VALUE=DATE:20261129
LOCATION:
SUMMARY:Jornada de Apresentação do Ano Pastoral
DESCRIPTION:
END:VEVENT
END:VCALENDAR
