BEGIN:VCALENDAR
VERSION:2.0
PRODID:-//Santuário de Fátima//NONSGML SF2ICAL v1.0//PT
METHOD:PUBLISH
X-WR-CALNAME:Santuário de Fátima
X-ORIGINAL-URL:https://www.fatima.pt/
X-WR-CALDESC:Events for Santuário de Fátima
BEGIN:VEVENT
UID:a0875077-5f63-4020-b0ec-f06a819ae48d
DTSTAMP:20260423T174855Z
DTSTART;VALUE=DATE:20340813
DTEND;VALUE=DATE:20340814
LOCATION:
SUMMARY:Peregrinação aniversária
DESCRIPTION:
END:VEVENT
END:VCALENDAR
