BEGIN:VCALENDAR
VERSION:2.0
PRODID:-//Santuário de Fátima//NONSGML SF2ICAL v1.0//PT
METHOD:PUBLISH
X-WR-CALNAME:Santuário de Fátima
X-ORIGINAL-URL:https://www.fatima.pt/
X-WR-CALDESC:Events for Santuário de Fátima
BEGIN:VEVENT
UID:848e747e-f42a-4d4e-9bfe-d4dd017f2737
DTSTAMP:20260423T153240Z
DTSTART;VALUE=DATE:20310813
DTEND;VALUE=DATE:20310814
LOCATION:
SUMMARY:Peregrinação aniversária
DESCRIPTION:
END:VEVENT
END:VCALENDAR
