BEGIN:VCALENDAR
VERSION:2.0
PRODID:-//Santuário de Fátima//NONSGML SF2ICAL v1.0//PT
METHOD:PUBLISH
X-WR-CALNAME:Santuário de Fátima
X-ORIGINAL-URL:https://www.fatima.pt/
X-WR-CALDESC:Events for Santuário de Fátima
BEGIN:VEVENT
UID:cc443cb4-77ea-4087-838d-9d2dd18fdd89
DTSTAMP:20260424T062203Z
DTSTART;VALUE=DATE:20260703
DTEND;VALUE=DATE:20260705
LOCATION:
SUMMARY:Peregrinação de Idosos
DESCRIPTION:
END:VEVENT
END:VCALENDAR
