BEGIN:VCALENDAR
VERSION:2.0
PRODID:-//Santuário de Fátima//NONSGML SF2ICAL v1.0//PT
METHOD:PUBLISH
X-WR-CALNAME:Santuário de Fátima
X-ORIGINAL-URL:https://www.fatima.pt/
X-WR-CALDESC:Events for Santuário de Fátima
BEGIN:VEVENT
UID:ec591ca9-0346-47bb-96aa-bd36ce3185fe
DTSTAMP:20260423T192147Z
DTSTART;VALUE=DATE:20260731
DTEND;VALUE=DATE:20260802
LOCATION:
SUMMARY:Peregrinação de Idosos
DESCRIPTION:
END:VEVENT
END:VCALENDAR
