BEGIN:VCALENDAR
VERSION:2.0
PRODID:-//Santuário de Fátima//NONSGML SF2ICAL v1.0//PT
METHOD:PUBLISH
X-WR-CALNAME:Santuário de Fátima
X-ORIGINAL-URL:https://www.fatima.pt/
X-WR-CALDESC:Events for Santuário de Fátima
BEGIN:VEVENT
UID:c2c93239-4bd4-457d-aee1-813d9be0e4e5
DTSTAMP:20260423T131223Z
DTSTART;VALUE=DATE:20310313
DTEND;VALUE=DATE:20310314
LOCATION:
SUMMARY:Peregrinação Mensal
DESCRIPTION:
END:VEVENT
END:VCALENDAR
