BEGIN:VCALENDAR
VERSION:2.0
PRODID:-//Santuário de Fátima//NONSGML SF2ICAL v1.0//PT
METHOD:PUBLISH
X-WR-CALNAME:Santuário de Fátima
X-ORIGINAL-URL:https://www.fatima.pt/
X-WR-CALDESC:Events for Santuário de Fátima
BEGIN:VEVENT
UID:80687098-8002-401b-962a-ced129174a79
DTSTAMP:20260423T174518Z
DTSTART;VALUE=DATE:20350113
DTEND;VALUE=DATE:20350114
LOCATION:
SUMMARY:Peregrinação Mensal
DESCRIPTION:
END:VEVENT
END:VCALENDAR
