BEGIN:VCALENDAR
VERSION:2.0
PRODID:-//Santuário de Fátima//NONSGML SF2ICAL v1.0//PT
METHOD:PUBLISH
X-WR-CALNAME:Santuário de Fátima
X-ORIGINAL-URL:https://www.fatima.pt/
X-WR-CALDESC:Events for Santuário de Fátima
BEGIN:VEVENT
UID:20d7d027-c8fe-4e6b-b50b-71c8e0402522
DTSTAMP:20260423T232841Z
DTSTART;VALUE=DATE:20270605
DTEND;VALUE=DATE:20270606
LOCATION:
SUMMARY:Primeiro Sábado
DESCRIPTION:
END:VEVENT
END:VCALENDAR
