BEGIN:VCALENDAR
VERSION:2.0
PRODID:-//Santuário de Fátima//NONSGML SF2ICAL v1.0//PT
METHOD:PUBLISH
X-WR-CALNAME:Santuário de Fátima
X-ORIGINAL-URL:https://www.fatima.pt/
X-WR-CALDESC:Events for Santuário de Fátima
BEGIN:VEVENT
UID:11efe11f-4987-472d-943c-40b18b61facc
DTSTAMP:20260422T060109Z
DTSTART;VALUE=DATE:20260521
DTEND;VALUE=DATE:20260525
LOCATION:
SUMMARY:Retiro de Doentes
DESCRIPTION:
END:VEVENT
END:VCALENDAR
