BEGIN:VCALENDAR
VERSION:2.0
PRODID:-//Santuário de Fátima//NONSGML SF2ICAL v1.0//PT
METHOD:PUBLISH
X-WR-CALNAME:Santuário de Fátima
X-ORIGINAL-URL:https://www.fatima.pt/
X-WR-CALDESC:Events for Santuário de Fátima
BEGIN:VEVENT
UID:93806370-ca12-4df5-8918-c2e8aa77cc1b
DTSTAMP:20260422T144010Z
DTSTART:20260701T201500Z
DTEND:20260701T211500Z
LOCATION:
SUMMARY:Visita Temática à Exposição Temporária
DESCRIPTION:
END:VEVENT
END:VCALENDAR
