BEGIN:VCALENDAR
VERSION:2.0
PRODID:-//Santuário de Fátima//NONSGML SF2ICAL v1.0//IT
METHOD:PUBLISH
X-WR-CALNAME:Santuário de Fátima
X-ORIGINAL-URL:https://www.fatima.pt/
X-WR-CALDESC:Events for Santuário de Fátima
BEGIN:VEVENT
UID:85a97559-64bf-4ed4-91e4-d4db238ee0ea
DTSTAMP:20260422T171543Z
DTSTART;VALUE=DATE:20260805
DTEND;VALUE=DATE:20260810
LOCATION:
SUMMARY:Into the light. Proposta pastoral para jovens no Santuário de Fát
	ima
DESCRIPTION:
END:VEVENT
END:VCALENDAR
